BEGIN:VCALENDAR
VERSION:2.0
PRODID:-//PPPO Freiburg - ECPv6.8.3//NONSGML v1.0//EN
CALSCALE:GREGORIAN
METHOD:PUBLISH
X-ORIGINAL-URL:https://pppo-freiburg.de
X-WR-CALDESC:Veranstaltungen für PPPO Freiburg
REFRESH-INTERVAL;VALUE=DURATION:PT1H
X-Robots-Tag:noindex
X-PUBLISHED-TTL:PT1H
BEGIN:VTIMEZONE
TZID:Europe/Berlin
BEGIN:DAYLIGHT
TZOFFSETFROM:+0100
TZOFFSETTO:+0200
TZNAME:CEST
DTSTART:20220327T010000
END:DAYLIGHT
BEGIN:STANDARD
TZOFFSETFROM:+0200
TZOFFSETTO:+0100
TZNAME:CET
DTSTART:20221030T010000
END:STANDARD
END:VTIMEZONE
BEGIN:VEVENT
DTSTART;TZID=Europe/Berlin:20220520T080000
DTEND;TZID=Europe/Berlin:20220521T170000
DTSTAMP:20260425T175613
CREATED:20210429T155128Z
LAST-MODIFIED:20210429T155204Z
UID:1317-1653033600-1653152400@pppo-freiburg.de
SUMMARY:Weiterbildung
DESCRIPTION:WPO e. V.  (Weiterbildung Psychosoziale Onkologie) Curriculum für approbierte Psychotherapeuten  \nUlrike Heckl\, Dr. phil. Dipl.-Psych.\n(Psychotherapeutische Praxis Freiburg) \nJoachim Weis\, Prof. Dr. phil. Dipl.-Psych.\n(Universitätsklinikum Freiburg)
URL:https://pppo-freiburg.de/event/weiterbildung-13/
LOCATION:Caritas Tageszentrum\, Wintererstraße 17-19\, Freiburg\, 79104
END:VEVENT
END:VCALENDAR